BEGIN:VCALENDAR
PRODID:NingEventWidget-v1
VERSION:2.0
METHOD:PUBLISH
BEGIN:VEVENT
UID:5167423:Event:173534
DTSTAMP:20260422T093240Z
SUMMARY:Cover's Annual Car Show
DESCRIPTION:Show Cars, Muscle, classic ,Race cars, Trucks, Classic Tru
 cks, Motorcycles, Tractors\nTrophies each class\nRegistration   9:00 
 am - 11:00 am\nVoting 12:00 pm - 1:00 pm\nTrophies 2:00 pm\nDash Plaqu
 es first 100\n\nFor more information visit https://northeastwheelseven
 ts.com/events/cover-s-annual-car-show
DTSTART:20180610T130000Z
DTEND:20180610T180000Z
CATEGORIES:newburg, hopewell, volunteer, fire, "co."
LOCATION:Hopewell Township Park Newburg Pa
WEBSITE:
URL:
CONTACT:717-729-0534
ORGANIZER:John Cover
ATTACH;FMTTYPE="image/jpeg":
ATTENDEE;ROLE=REQ-PARTICIPANT;PARTSTAT=ACCEPTED;RSVP=TRUE;CN=John:http
 s://northeastwheelsevents.com/profile/John
END:VEVENT
END:VCALENDAR
