BEGIN:VCALENDAR
PRODID:NingEventWidget-v1
VERSION:2.0
METHOD:PUBLISH
BEGIN:VEVENT
UID:5167423:Event:233129
DTSTAMP:20260423T083622Z
SUMMARY:COVERS ANNUAL CAR SHOW
DESCRIPTION:SHOW CARS,MUSCLE CARS,CLASSIC CARS,RACE CARS,TRUCKS,MOTORC
 YCLES,SUV'S,TRACTORS,BICYCLES,KIDS TOY CARS. D.J. FOR MUSIC FOOD BY NE
 WBURG FIRE COMPANY HELD AT HOPEWELL TOWNSHIP PARK\n\nFor more informat
 ion visit https://northeastwheelsevents.com/events/covers-annual-car-s
 how
DTSTART:20190609T130000Z
DTEND:20190609T190000Z
CATEGORIES:car, truck, tractor, show
LOCATION:HOPEWELL TOWNSHIP PARK
WEBSITE:
URL:
CONTACT:7177290534
ORGANIZER:JOHN COVER
ATTACH;FMTTYPE="image/jpeg":
ATTENDEE;ROLE=REQ-PARTICIPANT;PARTSTAT=ACCEPTED;RSVP=TRUE;CN=John:http
 s://northeastwheelsevents.com/profile/John
END:VEVENT
END:VCALENDAR
