BEGIN:VCALENDAR
PRODID:NingEventWidget-v1
VERSION:2.0
METHOD:PUBLISH
BEGIN:VEVENT
UID:5167423:Event:62647
DTSTAMP:20260424T213753Z
SUMMARY:Create Your Own Hershey's Kissmobile
DESCRIPTION:Known year-round as The Sweetest Place on Earth, Hershey i
 s celebrating February as a special month with a town-wide celebration
  of all things chocolate.  As part of our Chocolate Covered February 
 festivities, guests can build their own Kissmobile out of Hershey’s 
 chocolate products on President’s Day, February 16, 2015 from 1- 3 
 pm. \n\nFor more information visit https://northeastwheelsevents.com/
 events/create-your-own-hershey-s-kissmobile
DTSTART:20150216T180000Z
DTEND:20150216T200000Z
CATEGORIES:community
LOCATION:AACA Museum
WEBSITE:http://www.aacamuseum.org/create-hersheys-kissmobile/
URL:http://www.aacamuseum.org/create-hersheys-kissmobile/
CONTACT:717-566-7100
ORGANIZER;CN="AACA Museum":https://northeastwheelsevents.com/profile/A
 ACAMuseum553
ATTACH;FMTTYPE="image/jpeg":http://storage.ning.com/topology/rest/1.0/
 file/get/2284065178?profile=original
ATTENDEE;ROLE=REQ-PARTICIPANT;PARTSTAT=ACCEPTED;RSVP=TRUE;CN="AACA Mus
 eum":https://northeastwheelsevents.com/profile/AACAMuseum553
END:VEVENT
END:VCALENDAR
