BEGIN:VCALENDAR
PRODID:NingEventWidget-v1
VERSION:2.0
METHOD:PUBLISH
BEGIN:VEVENT
UID:5167423:Event:315485
DTSTAMP:20260421T214437Z
SUMMARY:Cruise and Brewz
DESCRIPTION:Join us for our 2023 Cruise events!\n\nJune 17th\nJuly 1st
 \nSept 2nd\n\nFrom 1-4pm\n\nHang out with friends, listen to live musi
 c, and enjoy cold beer, wine, soda, spirits and fresh food!  Held at: 
 Moss Mill Brewing Company 109 Pike Circle, Unit D Huntingdon Valley, P
 A 19006\n\nFor more information visit https://northeastwheelsevents.co
 m/events/cruise-amp-brewz-1
DTSTART:20230701T170000Z
DTEND:20230701T200000Z
CATEGORIES:cruise, event
LOCATION:Moss Mill Brewing Company
WEBSITE:http://www.mossmillbrewing.com/events
URL:http://www.mossmillbrewing.com/events
CONTACT:215-876-6305
ORGANIZER;CN="Evann Rodgers":https://northeastwheelsevents.com/profile
 /EvannRodgers
ATTACH;FMTTYPE="image/jpeg":https://storage.ning.com/topology/rest/1.0
 /file/get/11541683256?profile=original
ATTENDEE;ROLE=REQ-PARTICIPANT;PARTSTAT=ACCEPTED;RSVP=TRUE;CN="Evann Ro
 dgers":https://northeastwheelsevents.com/profile/EvannRodgers
END:VEVENT
END:VCALENDAR
