BEGIN:VCALENDAR
PRODID:NingEventWidget-v1
VERSION:2.0
METHOD:PUBLISH
BEGIN:VEVENT
UID:5167423:Event:152788
DTSTAMP:20260420T220333Z
SUMMARY:Cruise For Sara Mulkey
DESCRIPTION:\nSara started her fundraising adventures as a pre-teen at
  various benefits for musicians and, especially, Relay for Life.  Sar
 a has now survived 2 types of cancer. She has helped raise over $50,00
 0 toward cancer research just since she's been in MD, with many more t
 housands she helped raise when she lived in Hampton Roads. She needs o
 ur help now. \n\n\nFor more information visit https://northeastwheels
 events.com/events/cruise-for-sara-mulkey
DTSTART:20170611T160000Z
DTEND:20170611T210000Z
CATEGORIES:fundraiser
LOCATION:Wilson Ruritan Club 16204 National Pike, Hagerstown, Maryland
  21740
WEBSITE:https://www.facebook.com/events/1836161526597998/?acontext=%7B
 %22ref%22%3A%222%22%2C%22ref_dashboard_filter%22%3A%22upcoming%22%2C%2
 2feed_story_type%22%3A%22263%22%2C%22action_history%22%3A%22[%7B%5C%22
 surface%5C%22%3A%5C%22dashboard%5C%22%2C%5C%22mechanism%5C%22%3A%5C%22
 main_list%5C%22%2C%5C%22extra_data%5C%22%3A[]%7D]%22%7D
URL:https://www.facebook.com/events/1836161526597998/?acontext=%7B%22r
 ef%22%3A%222%22%2C%22ref_dashboard_filter%22%3A%22upcoming%22%2C%22fee
 d_story_type%22%3A%22263%22%2C%22action_history%22%3A%22[%7B%5C%22surf
 ace%5C%22%3A%5C%22dashboard%5C%22%2C%5C%22mechanism%5C%22%3A%5C%22main
 _list%5C%22%2C%5C%22extra_data%5C%22%3A[]%7D]%22%7D
CONTACT:
ORGANIZER:Michelle Mills
ATTACH;FMTTYPE="image/jpeg":http://storage.ning.com/topology/rest/1.0/
 file/get/2284099190?profile=original
ATTENDEE;ROLE=REQ-PARTICIPANT;PARTSTAT=ACCEPTED;RSVP=TRUE;CN="Sara Mul
 key":https://northeastwheelsevents.com/profile/SaraMulkey
END:VEVENT
END:VCALENDAR
