BEGIN:VCALENDAR
PRODID:NingEventWidget-v1
VERSION:2.0
METHOD:PUBLISH
BEGIN:VEVENT
UID:5167423:Event:144011
DTSTAMP:20260423T003210Z
SUMMARY:CRUISE IN AT PARSONS INTERSTATE FORD
DESCRIPTION:\n\nFor more information visit https://northeastwheelseven
 ts.com/events/cruise-in-at-parsons-interstate-ford
DTSTART:20170811T210000Z
DTEND:20170812T003000Z
CATEGORIES:"cruise in with awards"
LOCATION:PARSONS INTERSTATE FORD
WEBSITE:
URL:
CONTACT:717-552-3030 OR 717-649-0104
ORGANIZER:PAT OR STEVE
ATTACH;FMTTYPE="image/jpeg":http://storage.ning.com/topology/rest/1.0/
 file/get/2284096308?profile=original
ATTENDEE;ROLE=REQ-PARTICIPANT;PARTSTAT=ACCEPTED;RSVP=TRUE;CN="Jerry W 
 Holtry":https://northeastwheelsevents.com/profile/JerryWHoltry
END:VEVENT
END:VCALENDAR
