BEGIN:VCALENDAR
PRODID:NingEventWidget-v1
VERSION:2.0
METHOD:PUBLISH
BEGIN:VEVENT
UID:5167423:Event:21984
DTSTAMP:20260424T064941Z
SUMMARY:Cruise In at the AACA Museum
DESCRIPTION:Join the Antique Automobile Club of America Hershey Region
  and the AACA Museum for a fun evening of cars as we host a “Cruise 
 IN”   All vehicles of any year are welcome to be on display - 
 no registration fee will be charged.   Food vendors will be on hand 
 with lots of tailgating options and the Museum will be open from 5:00 
 – 9:00 PM with a special admission price of just $5 per person from 
 5-9 PM.   \nEveryone is welcome to come and enjoy looking at the ve
 hicles both inside and outside the Museum, even if you don't have a cl
 assic or antique car.\nOther activities include:  Door Prizes, 50/50 
 drawings, Special Youth Programs, President's choice Award and Valve C
 over racing.\n\nFile: cruise in with hershey region aaca.pdf\n\nFor m
 ore information visit https://northeastwheelsevents.com/events/cruise-
 in-at-the-aaca-museum
DTSTART:20130607T210000Z
DTEND:20130608T010000Z
CATEGORIES:cruise
LOCATION:AACA Museum, Hershey PA
WEBSITE:http://aacamuseum.org
URL:http://aacamuseum.org
CONTACT:717 566-7100
ORGANIZER:AACA Museum
ATTACH;FMTTYPE="image/jpeg":http://storage.ning.com/topology/rest/1.0/
 file/get/2284050756?profile=original
ATTENDEE;ROLE=REQ-PARTICIPANT;PARTSTAT=ACCEPTED;RSVP=TRUE;CN="Pamela H
 irschhorn":https://northeastwheelsevents.com/profile/PamelaHirschhorn
END:VEVENT
END:VCALENDAR
