BEGIN:VCALENDAR
PRODID:NingEventWidget-v1
VERSION:2.0
METHOD:PUBLISH
BEGIN:VEVENT
UID:5167423:Event:246324
DTSTAMP:20260421T021108Z
SUMMARY:CRUISE IN FOR A CAUSE
DESCRIPTION:THESE EVENTS REPEAT  THE FIRST SUNDAY F THE MONTH FROM MA
 Y TO NOVEMBER. 5 TO 7 P.M.  TROPHIES,DOOR PRIZES AND 20% OFF DINNER. 
 COME AND JOIN IN THE FUN FOR A WORTHY CAUSE, PA. WOUNDED WARRIORS. ALL
  MONIES COLLECTED IS DONATED TO THE CAUSE. THERESA\n\nFor more informa
 tion visit https://northeastwheelsevents.com/events/cruise-in-for-a-ca
 use-2
DTSTART:20190602T210000Z
DTEND:20190602T230000Z
CATEGORIES:monthly, cruise, in, for, "pa.", wounded, warriors
LOCATION:PARMA PIZZA, HAINES ROAD,YORK,PA.
WEBSITE:
URL:
CONTACT:7172353221
ORGANIZER:YORK MUSTANG CLUB AND PARMA PIZZA
ATTACH;FMTTYPE="image/jpeg":https://storage.ning.com/topology/rest/1.0
 /file/get/2706813906?profile=original
ATTENDEE;ROLE=REQ-PARTICIPANT;PARTSTAT=ACCEPTED;RSVP=TRUE;CN="theresa 
 adamski":https://northeastwheelsevents.com/profile/theresaadamski643
END:VEVENT
END:VCALENDAR
