BEGIN:VCALENDAR
PRODID:NingEventWidget-v1
VERSION:2.0
METHOD:PUBLISH
BEGIN:VEVENT
UID:5167423:Event:348358
DTSTAMP:20260420T230819Z
SUMMARY:Cruise Night Presented by Greenhill Car Wash
DESCRIPTION:Come out and show off your ride while enjoying conversatio
 n and good food.\n\nFor more information visit https://northeastwheels
 events.com/events/cruise-night-presented-by-greenhill-car-wash-3
DTSTART:20260501T200000Z
DTEND:20260502T000000Z
CATEGORIES:cruise, night
LOCATION:Greenhill Car Wash
WEBSITE:https://rebrand.ly/ac4lnet
URL:https://rebrand.ly/ac4lnet
CONTACT:3029836966
ORGANIZER;CN="LaBarre Everette":https://northeastwheelsevents.com/prof
 ile/LaBarreEverette
ATTACH;FMTTYPE="image/jpeg":https://storage.ning.com/topology/rest/1.0
 /file/get/31093883079?profile=original
ATTENDEE;ROLE=REQ-PARTICIPANT;PARTSTAT=ACCEPTED;RSVP=TRUE;CN="LaBarre 
 Everette":https://northeastwheelsevents.com/profile/LaBarreEverette
END:VEVENT
END:VCALENDAR
