BEGIN:VCALENDAR
PRODID:NingEventWidget-v1
VERSION:2.0
METHOD:PUBLISH
BEGIN:VEVENT
UID:5167423:Event:190028
DTSTAMP:20260419T184415Z
SUMMARY:Cruise Nights Car Show
DESCRIPTION:We close down part of Broad Street so that car collectors 
 from all over New Jersey can cruise to Bloomfield to show off their an
 tique autos and classic cars to local merchants, families, and car afi
 cionados alike. Kids Corner! Food Specials! Family friendly! Trophies 
 for car participants.\nWednesdays 6:00pm -9:00pm all summer long\nMore
  Cruise Night news to come! Check back :)\nIf you and your vehicle wou
 ld like to participate in any of our cruise nights just simply drive u
 p to 2 Broad Street and register once you are here and it is free to p
 articipate.\nPlease email events@bloomfieldcenter.com or call 973-429-
 8050 if you have any additional questions.\n\nFor more information vis
 it https://northeastwheelsevents.com/events/cruise-nights-car-show
DTSTART:20180718T220000Z
DTEND:20180718T230000Z
CATEGORIES:cruise, night
LOCATION:Bloomfield, NJ
WEBSITE:
URL:
CONTACT:9736516101
ORGANIZER;CN="Bloomfield Center Alliance":https://northeastwheelsevent
 s.com/profile/BloomfieldCenterAlliance
ATTACH;FMTTYPE="image/jpeg":http://storage.ning.com/topology/rest/1.0/
 file/get/2284108348?profile=original
ATTENDEE;ROLE=REQ-PARTICIPANT;PARTSTAT=ACCEPTED;RSVP=TRUE;CN="Bloomfie
 ld Center Alliance":https://northeastwheelsevents.com/profile/Bloomfie
 ldCenterAlliance
END:VEVENT
END:VCALENDAR
