BEGIN:VCALENDAR
PRODID:NingEventWidget-v1
VERSION:2.0
METHOD:PUBLISH
BEGIN:VEVENT
UID:5167423:Event:141374
DTSTAMP:20260423T232431Z
SUMMARY:Cruise Nights hosted by Arosso and Bucks County Stangz
DESCRIPTION:1st Thursday of Every Month Starting April through Nov 201
 7\n\nFor more information visit https://northeastwheelsevents.com/even
 ts/cruise-nights-hosted-by-arosso-and-bucks-county-stangz
DTSTART:20170406T220000Z
DTEND:20170407T010000Z
CATEGORIES:cruise, night
LOCATION:Arosso
WEBSITE:http://www.arosso.net
URL:http://www.arosso.net
CONTACT:
ORGANIZER:Bucks County Stangz
ATTACH;FMTTYPE="image/jpeg":http://storage.ning.com/topology/rest/1.0/
 file/get/2284095937?profile=original
ATTENDEE;ROLE=REQ-PARTICIPANT;PARTSTAT=ACCEPTED;RSVP=TRUE;CN="Jeff Sei
 f":https://northeastwheelsevents.com/profile/JeffSeif
END:VEVENT
END:VCALENDAR
