BEGIN:VCALENDAR
PRODID:NingEventWidget-v1
VERSION:2.0
METHOD:PUBLISH
BEGIN:VEVENT
UID:5167423:Event:228142
DTSTAMP:20260419T154916Z
SUMMARY:Cruise Nite at Lupfer's Grove
DESCRIPTION:Cruise to Lupfer's Grove in Shermansdale PA. for a nice re
 laxing evening! Free Entrance!\n\nFor more information visit https://n
 ortheastwheelsevents.com/events/cruise-nite-at-lupfer-s-grove
DTSTART:20190727T200000Z
DTEND:20190727T230000Z
CATEGORIES:cruise, nite
LOCATION:Shermans Dale, PA
WEBSITE:
URL:
CONTACT:717-582-6747
ORGANIZER;CN="Tim Lupfer":https://northeastwheelsevents.com/profile/Ti
 mLupfer
ATTACH;FMTTYPE="image/jpeg":
ATTENDEE;ROLE=REQ-PARTICIPANT;PARTSTAT=ACCEPTED;RSVP=TRUE;CN="Tim Lupf
 er":https://northeastwheelsevents.com/profile/TimLupfer
END:VEVENT
END:VCALENDAR
