BEGIN:VCALENDAR
PRODID:NingEventWidget-v1
VERSION:2.0
METHOD:PUBLISH
BEGIN:VEVENT
UID:5167423:Event:297885
DTSTAMP:20260425T223716Z
SUMMARY:Cruisin' 2022 Classic Car Show At Racks Pub and Grill
DESCRIPTION:Toy Drive!!  Monthly cruise benefitting Toys For Kids at 
 St John of God and our Veterans. Donations accepted at the gate. Live 
 DJ, 50/50, trophies, and 10% off food orders at Racks Pub and Grill.\n
 \nFor more information visit https://northeastwheelsevents.com/events/
 cruisin-2022-classic-car-show-at-racks-pub-and-grill-6
DTSTART:20221021T210000Z
DTEND:20221022T000000Z
CATEGORIES:car, cruise
LOCATION:Racks Pub and Grill Williamstown
WEBSITE:http://www.rackspubandgrill.com
URL:http://www.rackspubandgrill.com
CONTACT:865 875-9700
ORGANIZER:Racks Pub and Grill, Williamstown, NJ
ATTACH;FMTTYPE="image/jpeg":
ATTENDEE;ROLE=REQ-PARTICIPANT;PARTSTAT=ACCEPTED;RSVP=TRUE;CN="Car Show
 s Little Helper":https://northeastwheelsevents.com/profile/CarShowsLit
 tleHelper
END:VEVENT
END:VCALENDAR
