BEGIN:VCALENDAR
PRODID:NingEventWidget-v1
VERSION:2.0
METHOD:PUBLISH
BEGIN:VEVENT
UID:5167423:Event:154655
DTSTAMP:20260423T015134Z
SUMMARY:Cruisin' Car Show
DESCRIPTION:A car show has been added to the July 16 performance of th
 e Summer Concert Series provided by the Emmaus Recreation and Entertai
 nment Commission. \nCome out and compete while enjoying a relaxing ev
 ening in our large tree shaded park. \n\nWhen: Sunday, July 16th\nWhe
 re: Emmaus Community Park - Shimerville Rd\nWhen: 4:00PM thru 8:00PM\n
 Show Car Arrivals: To Be Announced\nCost to Enter - $20.00\nTotal Numb
 er of Cars - 50\nAwards for:\n\nBest in Show\n2nd place\n3rd place\nPe
 ople's Choice\nKid's Choice\n\nEnjoy listening to music of the 60's wi
 th The Large Flowerheads - from 6-8PM. \nFood and drink is available
  for purchase.\nThis is a rain or shine event.\nAll proceeds go to the
  Emmaus Recreation and Entertainment Commission.  The Commission prov
 ides FREE family friendly events throughout the summer including Commu
 nity Day, the Summer Concert Series, and Movies Under the Stars.  Ple
 ase go to www.EmmausENT.com for a schedule of events.  Join us in th
 e park for a summer of fun!  We look forward to seeing you there!\n\n
 For more information visit https://northeastwheelsevents.com/events/cr
 uisin-car-show
DTSTART:20170716T200000Z
DTEND:20170717T000000Z
CATEGORIES:car, show
LOCATION:Emmaus, PA
WEBSITE:https://www.eventbrite.com/e/cruisin-car-show-tickets-34709146
 993
URL:https://www.eventbrite.com/e/cruisin-car-show-tickets-34709146993
CONTACT:610-349-7142
ORGANIZER;CN="Barbara Graff":https://northeastwheelsevents.com/profile
 /BarbaraGraff
ATTACH;FMTTYPE="image/jpeg":http://storage.ning.com/topology/rest/1.0/
 file/get/2284099727?profile=original
ATTENDEE;ROLE=REQ-PARTICIPANT;PARTSTAT=ACCEPTED;RSVP=TRUE;CN="Barbara 
 Graff":https://northeastwheelsevents.com/profile/BarbaraGraff
END:VEVENT
END:VCALENDAR
