BEGIN:VCALENDAR
PRODID:NingEventWidget-v1
VERSION:2.0
METHOD:PUBLISH
BEGIN:VEVENT
UID:5167423:Event:192616
DTSTAMP:20260419T190613Z
SUMMARY:Cruisin The Cove Joe Joe's Leukemia Benefit Cruise Bronx, NY
DESCRIPTION:Celebrate your health while helping Joe Joe fight leukemia
 . Lets show how much we care and have a great time doing it! Cruise in
 to the Cove Marina for a delightful, waterfront, evening of cars, comr
 adery and family fun. Food, Music and good times! No registration fee,
  but all donations are more than welcome! Bring the family and friends
  and help Joe Joe kick cancer in the butt!!!!  NOTE: Clubs Welcome!!!
 !\n\nFor more information visit https://northeastwheelsevents.com/even
 ts/cruisin-the-cove-joe-joe-s-leukemia-benefit-cruise-bronx-ny
DTSTART:20180717T213000Z
DTEND:20180718T010000Z
CATEGORIES:cruise, in, and, fund, raiser
LOCATION:Hammond Cove Marina
WEBSITE:https://www.facebook.com/groups/2042886502607941/
URL:https://www.facebook.com/groups/2042886502607941/
CONTACT:Terry 917 416-7005, 718 863-5580
ORGANIZER:Hammond Cove Marina
ATTACH;FMTTYPE="image/jpeg":http://storage.ning.com/topology/rest/1.0/
 file/get/2284107716?profile=original
ATTENDEE;ROLE=REQ-PARTICIPANT;PARTSTAT=ACCEPTED;RSVP=TRUE;CN="Terry De
 e":https://northeastwheelsevents.com/profile/TerryDee
ATTENDEE;ROLE=REQ-PARTICIPANT;PARTSTAT=ACCEPTED;RSVP=TRUE;CN="Car Show
 s Little Helper":https://northeastwheelsevents.com/profile/CarShowsLit
 tleHelper
END:VEVENT
END:VCALENDAR
