BEGIN:VCALENDAR
PRODID:NingEventWidget-v1
VERSION:2.0
METHOD:PUBLISH
BEGIN:VEVENT
UID:5167423:Event:36788
DTSTAMP:20260424T004012Z
SUMMARY:\"Crusie Inn\" schedule at Gimaro Seafood & Steaks
DESCRIPTION:East Penn Modifiers Club invites you to join us at Gimaro 
 Seafood & Steaks on the fist Wednesday of every month starting April 2
 nd, May 7th, June 4th, July 2nd, Aug 6th, Sept 3rd & Oct 1st. Top 5 & 
 5 special pick trophies will be awarded. raffles & 50/50 will be avail
 able along with Dinner specials for everyone. A $3 donation is request
 ed with proceeds going to several local charitable organizations. All 
 vehicles welcome. For more info Jim Hunsberger 215-721-7989 or Chris M
 ills 267-745-3626\n\nFor more information visit https://northeastwheel
 sevents.com/events/crusie-inn-schedule-at-gimaro-seafood-steaks
DTSTART:20140402T210000Z
DTEND:20140403T010000Z
CATEGORIES:"cruise inn"
LOCATION:Gimaro Seafood & Steaks
WEBSITE:
URL:
CONTACT:215-721-7989
ORGANIZER;CN="Jim Hunsberger":https://northeastwheelsevents.com/profil
 e/JimHunsberger
ATTACH;FMTTYPE="image/jpeg":
ATTENDEE;ROLE=REQ-PARTICIPANT;PARTSTAT=ACCEPTED;RSVP=TRUE;CN="Jim Huns
 berger":https://northeastwheelsevents.com/profile/JimHunsberger
END:VEVENT
END:VCALENDAR
