BEGIN:VCALENDAR
PRODID:NingEventWidget-v1
VERSION:2.0
METHOD:PUBLISH
BEGIN:VEVENT
UID:5167423:Event:141102
DTSTAMP:20260423T023723Z
SUMMARY:Crusin' Classics Car Club's 16th Annual Car Show
DESCRIPTION:Crusin' Classics Car Club's 16th Annual Car Show is being 
 held on August 12th. The amazing giveaways, door prizes, and raffles w
 ill continue at our 16th Annual Car Show. One of the raffle items is a
 n awesome 30\" rolling tool cart.\nMake sure to preregister for discou
 nted raffle tickets and guarantee yourself one of our superb die cast 
 cars. Further information can be found on our Facebook Page: https://w
 ww.facebook.com/Cruisin-Classics-CC-in-Pa-282233628453856/\nFollow us 
 on Facebook for the latest info!\n\nFor more information visit https:/
 /northeastwheelsevents.com/events/crusin-classics-car-club-s-16th-annu
 al-car-show
DTSTART:20170812T130000Z
DTEND:20170812T190000Z
CATEGORIES:16th, annual, car, show
LOCATION:Cannstatter Volksfest Verein
WEBSITE:https://www.facebook.com/events/1718955194993647/
URL:https://www.facebook.com/events/1718955194993647/
CONTACT:
ORGANIZER;CN="Crusin' Classics Car Club":https://northeastwheelsevents
 .com/profile/CrusinClassicsCarClub
ATTACH;FMTTYPE="image/jpeg":http://storage.ning.com/topology/rest/1.0/
 file/get/2284092831?profile=original
ATTENDEE;ROLE=REQ-PARTICIPANT;PARTSTAT=ACCEPTED;RSVP=TRUE;CN="Crusin' 
 Classics Car Club":https://northeastwheelsevents.com/profile/CrusinCla
 ssicsCarClub
END:VEVENT
END:VCALENDAR
