BEGIN:VCALENDAR
PRODID:NingEventWidget-v1
VERSION:2.0
METHOD:PUBLISH
BEGIN:VEVENT
UID:5167423:Event:828
DTSTAMP:20260422T223310Z
SUMMARY:\"Cruzin Glenside\"   Glenside, Pa.
DESCRIPTION:18 car classes, including stock, modified, rods, trucks, f
 oreign. 16 motorcycle classes. 1st, 2nd and 3rd place trophies for eac
 h class. 300 to 400 participants. Participant voting. 35,000 spectator
 s. Food vendors, live music, radio station. DJ. Run by the Greater Gle
 nside Chamber of Commerce. Portion of the proceeds go to the Chamber S
 cholarship Fund for students.\n\nEvent Fees: Preregistration by July 2
 0, 2010 - $20. Registration day of show - $25.\nRegistration forms onl
 ine at www.glensidechamber.org\n\nFor more information visit https://n
 ortheastwheelsevents.com/events/cruzin-glenside-glenside-pa
DTSTART:20100807T210000Z
DTEND:20100808T010000Z
CATEGORIES:fundraiser, chamber, scholarship, fund, for, "students."
LOCATION:Easton Road
WEBSITE:http://www.glensidechamber.org
URL:http://www.glensidechamber.org
CONTACT:215 887-3110
ORGANIZER:Glenside Chamber of Commerce.
ATTACH;FMTTYPE="image/jpeg":
ATTENDEE;ROLE=REQ-PARTICIPANT;PARTSTAT=ACCEPTED;RSVP=TRUE;CN="Richard 
 Scott":https://northeastwheelsevents.com/profile/RichardScott
END:VEVENT
END:VCALENDAR
