BEGIN:VCALENDAR
PRODID:NingEventWidget-v1
VERSION:2.0
METHOD:PUBLISH
BEGIN:VEVENT
UID:5167423:Event:333984
DTSTAMP:20260422T115056Z
SUMMARY:Cruzin' New Milford CT.
DESCRIPTION:Cruzin' New Milford CT. has moved to Sunday, September 15 
 2024, 9:00am-4:00pm! We had to change location and date due to a sched
 uling conflict. Cruzing New Milford Connecticut Cruise News Border Wa
 rs Car, Truck, Jeep & Motorcycle Show. NEW LOCATION * John Pettibone C
 ommunity Center 2 Pickett District Road  New Milford, Ct. Back In Con
 necticut Again 2023 we had over 500 vehicles in the show.  All Makes &
  Models Welcomed. DJ Music, Great Food, Vendors, Giveaways, 50/50, Ove
 r 75 Trophies, Rings to the Top 35 Best of Show and much more.  Specia
 l TV Theme Cars & Special Interest Vehicles. Special Classes for Tuned
  Society, VW, Imports, Jeeps, Military and more. Show registration $20
 .00, General Admission FREE, Plenty FREE Spectator Parking on the Park
  Side of the facility * Please look for signs. Proceeds to Benefit Pet
 s & Vets Causes. Our Veteran Charity Pool which includes Remembering O
 ur Veterans/Wreaths For Heros, Veteran Food Boxes and more. Sponsored 
 by Connecticut Cruise News, MY Rides, Danbury Dodge, Ferrari Appliance
 s, Danbury Spring,Swag Rides, Danbury Competition Engine, Z2 Motorspor
 ts and others in conjunction with The Connecticut Cruise News Minutema
 n Riders, Backyard Beaters, Tuned Society, East Coast Custom Rides, VW
  LaFamilia, Rad Stallions and others.  Sponsorship and vendor space av
 ailable, email: bhembrook@newmilford.org,   NEW LOCATION: John Pettib
 one Community Center 2 Pickett District Road New Milford, Ct.  (on Rt 
 7 North New Milford) Easy off Rt 84, Rt 7 and great scenic ride from R
 t 7 North, Rt 67 to New Milford and only 1/2 Hour from New York Border
 .\n\nFor more information visit https://northeastwheelsevents.com/even
 ts/cruzin-new-milford-ct
DTSTART:20240915T130000Z
DTEND:20240915T200000Z
CATEGORIES:cruise-in
LOCATION:John Pettibone Community Center
WEBSITE:https://www.facebook.com/events/2-pickett-district-rd-new-milf
 ord-ct-06776-4413-united-states/cruzin-new-milford-important-date-chan
 ge-to-september-15th/1158070505384574/
URL:https://www.facebook.com/events/2-pickett-district-rd-new-milford-
 ct-06776-4413-united-states/cruzin-new-milford-important-date-change-t
 o-september-15th/1158070505384574/
CONTACT:860-355-6000
ORGANIZER:John Pettibone Community Center
ATTACH;FMTTYPE="image/jpeg":https://storage.ning.com/topology/rest/1.0
 /file/get/12931910288?profile=original
ATTENDEE;ROLE=REQ-PARTICIPANT;PARTSTAT=ACCEPTED;RSVP=TRUE;CN="William 
 Bruce":https://northeastwheelsevents.com/profile/WilliamBruce
END:VEVENT
END:VCALENDAR
