BEGIN:VCALENDAR
PRODID:NingEventWidget-v1
VERSION:2.0
METHOD:PUBLISH
BEGIN:VEVENT
UID:5167423:Event:338433
DTSTAMP:20260419T091742Z
SUMMARY:CUMBERLAND VALLEY CLASSICS CAR CLUB
DESCRIPTION:29TH ANNUAL CAR SHOW.  OPEN TO ALL YEARS, MAKES AND MODEL
 S.  FUN FIELD - NO CLASSES, VOTING BY PARTICIPANTS, TROPHIES AWARDED 
 AT 3:00 PM TO VEHICLES WITH TOP VOTES.  FORD, GM, MOPAR DEALERSHIP AW
 ARDS, BEST OF SHOW AWARD\nREGISTRATION 9AM - 11 AM. SILENT AUCTION, 50
 /50,\nDJ, DOOR PRIZES, FOOD. REGISTRATION DAY OF SHOW\n$10.00 PER VEHI
 CLE, PRE REGISTRATION $8.00 UNTIL 8/1/25\n\nFor more information visit
  https://northeastwheelsevents.com/events/cumberland-valley-classics-c
 ar-club-16
DTSTART:20250810T130000Z
DTEND:20250810T190000Z
CATEGORIES:car, show
LOCATION:CARLISLE FAIRGROUNDS
WEBSITE:http://cvccarclub.com
URL:http://cvccarclub.com
CONTACT:717-385-4203
ORGANIZER;CN="Joshua E. Sigman":https://northeastwheelsevents.com/prof
 ile/JoshuaESigman
ATTACH;FMTTYPE="image/jpeg":https://storage.ning.com/topology/rest/1.0
 /file/get/13529151875?profile=original
ATTENDEE;ROLE=REQ-PARTICIPANT;PARTSTAT=ACCEPTED;RSVP=TRUE;CN="Joshua E
 . Sigman":https://northeastwheelsevents.com/profile/JoshuaESigman
END:VEVENT
END:VCALENDAR
