BEGIN:VCALENDAR
PRODID:NingEventWidget-v1
VERSION:2.0
METHOD:PUBLISH
BEGIN:VEVENT
UID:5167423:Event:64541
DTSTAMP:20260424T135232Z
SUMMARY:Cupid Rates
DESCRIPTION:Two Admissions for $10.00\n\nFor more information visit ht
 tps://northeastwheelsevents.com/events/cupid-rates
DTSTART:20150213T150000Z
DTEND:20150213T200000Z
CATEGORIES:family, cars, museum, valentines, day, cupid, rates
LOCATION:America On Wheels
WEBSITE:http://americaonwheels.org/
URL:http://americaonwheels.org/
CONTACT:610-432-4200
ORGANIZER;CN="America On Wheels Museum":https://northeastwheelsevents.
 com/profile/americaonwheels
ATTACH;FMTTYPE="image/jpeg":http://storage.ning.com/topology/rest/1.0/
 file/get/2284065500?profile=original
ATTENDEE;ROLE=REQ-PARTICIPANT;PARTSTAT=ACCEPTED;RSVP=TRUE;CN="America 
 On Wheels Museum":https://northeastwheelsevents.com/profile/americaonw
 heels
END:VEVENT
END:VCALENDAR
