BEGIN:VCALENDAR
PRODID:NingEventWidget-v1
VERSION:2.0
METHOD:PUBLISH
BEGIN:VEVENT
UID:5167423:Event:63844
DTSTAMP:20260423T191139Z
SUMMARY:Cupid's Run, Carlisle MINI Car Club
DESCRIPTION:MINI owners are welcome to meet in Spring Grove, PA and en
 d in Hampstead, MD. A specific meeting spot for a starting point will 
 be announced in the coming weeks to make it easy for all to gather. \
 n\nOur final destination will be Illiano's J&P Restaurant which feat
 ures some great menu choices.\n\nThe route will be a fun drive over 
 back roads around South Central PA, enjoying MINI owner fellowship and
  experiences!\n\nFor more information visit https://northeastwheelseve
 nts.com/events/cupid-s-run-carlisle-mini-car-club
DTSTART:20150207T160000Z
DTEND:20150207T190000Z
CATEGORIES:driving, tour, -, lunch
LOCATION:Spring Grove, PA
WEBSITE:http://www.carlislemini.org
URL:http://www.carlislemini.org
CONTACT:
ORGANIZER;CN="Tom Long":https://northeastwheelsevents.com/profile/TomL
 ong
ATTACH;FMTTYPE="image/jpeg":http://storage.ning.com/topology/rest/1.0/
 file/get/2284067981?profile=original
ATTENDEE;ROLE=REQ-PARTICIPANT;PARTSTAT=ACCEPTED;RSVP=TRUE;CN="Tom Long
 ":https://northeastwheelsevents.com/profile/TomLong
END:VEVENT
END:VCALENDAR
