BEGIN:VCALENDAR
PRODID:NingEventWidget-v1
VERSION:2.0
METHOD:PUBLISH
BEGIN:VEVENT
UID:5167423:Event:64550
DTSTAMP:20260423T030147Z
SUMMARY:Current Exhibit: \"Supercars & Guitars\"
DESCRIPTION:\"Supercars & Guitars\" on Display thru mid-March\n\nWinte
 r Hours (January through March)Wednesday – Saturday 10am-4pmSunday n
 oon-4pmLast ticket sales at 3pm\n\nSummer Hours (April through Decembe
 r)Tuesday – Saturday 10am-5pm*Sunday noon-5pmLast ticket sales at 4p
 m\n\nMuseum AdmissionsGeneral – $8.00Groups of 10 or more adults –
  $7.00Seniors (62+) – $6.00Students (6-16) – $4.00Children (5 & un
 der) – FREEChildren 12 & under FREE on Sunday’s\n\n\n\nFor more in
 formation visit https://northeastwheelsevents.com/events/current-exhib
 it-supercars-guitars
DTSTART:20150130T150000Z
DTEND:20150130T210000Z
CATEGORIES:cars, museum, family, seniors, kids, supercars, guitars, ex
 hibit
LOCATION:America On Wheels
WEBSITE:http://americaonwheels.org/
URL:http://americaonwheels.org/
CONTACT:610-432-4200
ORGANIZER;CN="America On Wheels Museum":https://northeastwheelsevents.
 com/profile/americaonwheels
ATTACH;FMTTYPE="image/jpeg":http://storage.ning.com/topology/rest/1.0/
 file/get/2284065500?profile=original
ATTENDEE;ROLE=REQ-PARTICIPANT;PARTSTAT=ACCEPTED;RSVP=TRUE;CN="America 
 On Wheels Museum":https://northeastwheelsevents.com/profile/americaonw
 heels
END:VEVENT
END:VCALENDAR
