BEGIN:VCALENDAR
PRODID:NingEventWidget-v1
VERSION:2.0
METHOD:PUBLISH
BEGIN:VEVENT
UID:5167423:Event:239207
DTSTAMP:20260422T014123Z
SUMMARY:D. E. Richard Car, Truck and Bike Show
DESCRIPTION:Join us for the 14th annual D.E. Richard Garage Inc. & Spe
 edway Mart Car Wash Car and Bike show.  Entry is by donation. All pro
 ceeds will go to Truckin-4-Troops  Cars, trucks and bikes welcome.   K
 ids games, raffles, food, music, fun, and prizes!  Help us raise money
  for a good cause!\n\nFor more information visit https://northeastwhee
 lsevents.com/events/d-e-richard-car-truck-amp-bike-show
DTSTART:20190518T170000Z
DTEND:20190518T210000Z
CATEGORIES:car, truck, bike, show
LOCATION:D. E. Richard Garage &amp; Speedway Mart
WEBSITE:
URL:
CONTACT:
ORGANIZER;CN="Allen Kohr":https://northeastwheelsevents.com/profile/Al
 lenKohr
ATTACH;FMTTYPE="image/jpeg":https://storage.ning.com/topology/rest/1.0
 /file/get/1253895909?profile=original
ATTENDEE;ROLE=REQ-PARTICIPANT;PARTSTAT=ACCEPTED;RSVP=TRUE;CN="Allen Ko
 hr":https://northeastwheelsevents.com/profile/AllenKohr
ATTENDEE;ROLE=REQ-PARTICIPANT;PARTSTAT=TENTATIVE;RSVP=TRUE;CN="Blaine 
 McKivison":https://northeastwheelsevents.com/profile/BlaineMcKivison
END:VEVENT
END:VCALENDAR
