BEGIN:VCALENDAR
PRODID:NingEventWidget-v1
VERSION:2.0
METHOD:PUBLISH
BEGIN:VEVENT
UID:5167423:Event:100927
DTSTAMP:20260426T001820Z
SUMMARY:Darwin Doll
DESCRIPTION:A \"Blast From The Past\" Annual Weekend Warriors Luncheon
  at the Eastern Museum of Motor Racing\"\nJoin a group of Legends for 
 a day of fun and frivolity\nwith JackRedd, Larry Lombardo, Wally Bell,
  George Nye, and a group of drag racing's best.  Activities begin at 
 11 a.m. with Luncheon and a Round Table discussion\nwith 50-50's and 
 nostalgia auction items.  Bring your favorite drag racing story and j
 oin the discussion. \n\nFor more information visit https://northeastw
 heelsevents.com/events/darwin-doll
DTSTART:20160213T160000Z
DTEND:20160213T200000Z
CATEGORIES:nostalgia, drag, racing
LOCATION:Eastern Museum of Motor Racing (EMMR)
WEBSITE:http://www.emmr.org
URL:http://www.emmr.org
CONTACT:717-757-2720 or 717-528-8279
ORGANIZER;CN="Darwin Doll":https://northeastwheelsevents.com/profile/D
 arwinDoll
ATTACH;FMTTYPE="image/jpeg":
ATTENDEE;ROLE=REQ-PARTICIPANT;PARTSTAT=ACCEPTED;RSVP=TRUE;CN="Darwin D
 oll":https://northeastwheelsevents.com/profile/DarwinDoll
END:VEVENT
END:VCALENDAR
