BEGIN:VCALENDAR
PRODID:NingEventWidget-v1
VERSION:2.0
METHOD:PUBLISH
BEGIN:VEVENT
UID:5167423:Event:170155
DTSTAMP:20260419T220126Z
SUMMARY:Dave & Ed's Super Auto Events Canfield Meet Canfield, Oh
DESCRIPTION:July 20, 21 & 22 The areas oldest meet for Rodders, Class
 ics & Antiques. Swap Meet, Car Corral & Sunday Only Car Show. Vendor s
 paces available Outdoor/Indoor Call for availability.\n\nCar Corral: $
 25 vehicle/driver, cash payment @ gate weekend of show. Sunday Car Sho
 w: car/driver FREE, passengers $7 each, Limited dash plaques & goodie 
 bags. General Admission: $7 per day/ $10 weekend pass. FREE parking, F
 REE part pick up, FREE notary service, Kids 11 & Under FREE. Find Vend
 ors selling car, truck & motorcycle parts, leather goods, sunglasses, 
 t-shirts, shop rags, tires & wheels, titles and much more. This is a f
 amily friendly event.\n\nFor more information visit https://northeastw
 heelsevents.com/events/dave-amp-ed-s-super-auto-events-canfield-meet-c
 anfield-oh-1
DTSTART:20180720T120000Z
DTEND:20180722T200000Z
CATEGORIES:vendors, swap, meet, car, corral, show
LOCATION:Canfield Mahoning County Fairgrounds
WEBSITE:http://www.autoevents.com
URL:http://www.autoevents.com
CONTACT:330-477-8506
ORGANIZER;CN="Dave & Ed's Super Auto Events":https://northeastwheelsev
 ents.com/profile/DaveEdsSuperAutoEvents
ATTACH;FMTTYPE="image/jpeg":http://storage.ning.com/topology/rest/1.0/
 file/get/2284066380?profile=original
ATTENDEE;ROLE=REQ-PARTICIPANT;PARTSTAT=ACCEPTED;RSVP=TRUE;CN="Dave & E
 d's Super Auto Events":https://northeastwheelsevents.com/profile/DaveE
 dsSuperAutoEvents
END:VEVENT
END:VCALENDAR
