BEGIN:VCALENDAR
PRODID:NingEventWidget-v1
VERSION:2.0
METHOD:PUBLISH
BEGIN:VEVENT
UID:5167423:Event:336649
DTSTAMP:20260419T231646Z
SUMMARY:Dave & Ed's Super Auto Events Indoor Swap Meet- Canfield OH
DESCRIPTION:\r\nIndoor swap meet at the Event Center located at the Ca
 nfield Fairgrounds. Show features vendors selling new/used parts, sign
 s, tools, work clothes & much more. Show hours 8am-3pm. $7 admission/K
 ids under 12 FREE. FREE parking.\r\n\r\nWhen:Â February 22, 2025 10am 
 - 3pm\r\n\r\nLocation:\r\n7265 Columbiana Canfield Rd\r\nCanfield, OH 
 44406\r\n\r\nCost:Â $7 admission\r\nTo Register:Â Click here for more 
 informationÂ orÂ call Dave & Ed's Super Auto Events at 1-330-477-8506Â
  orÂ e-mail usÂ hmnmail@hemmings.com\n\nFor more information visit htt
 ps://northeastwheelsevents.com/events/dave-ed-s-super-auto-events-indo
 or-swap-meet-canfield-oh
DTSTART:20250222T130000Z
DTEND:20250222T200000Z
CATEGORIES:vendors, swap-meet
LOCATION:Canfield Fairgrounds
WEBSITE:https://www.hemmings.com/events/detail?listing_id=64794
URL:https://www.hemmings.com/events/detail?listing_id=64794
CONTACT:330-477-8506
ORGANIZER:Dave and Ed's Super Auto Events
ATTACH;FMTTYPE="image/jpeg":http://storage.ning.com/topology/rest/1.0/
 file/get/2284111593?profile=original
ATTENDEE;ROLE=REQ-PARTICIPANT;PARTSTAT=ACCEPTED;RSVP=TRUE;CN="William 
 Bruce":https://northeastwheelsevents.com/profile/WilliamBruce
END:VEVENT
END:VCALENDAR
