BEGIN:VCALENDAR
PRODID:NingEventWidget-v1
VERSION:2.0
METHOD:PUBLISH
BEGIN:VEVENT
UID:5167423:Event:335056
DTSTAMP:20260423T070345Z
SUMMARY:Day of the Dead 4: Car Show and Truck or Treat
DESCRIPTION:Deceptive Dreamz Presents: Day of The Dead: Trunk-or-Treat
  Car Show!\r\nGet ready for a spooktacular day of Halloween fun! Decep
 tive Dreamz is back with our Day of The Dead: Trunk-or-Treat Car Show,
  and it’s going to be bigger, louder, and more festive than ever. Du
 st off your costumes and bring your excitement for a day filled with c
 andy, cars, and ghoulishly good times for the whole family!\r\nSpectat
 ors and Car Show participants are to enter through Gate #3.\r\nEvent H
 ighlights:\r\n\r\nLow Limbo: How low can you go? Test your ride’s s
 uspension and see who can glide under the limbo bar the lowest!\r\nExh
 aust Competitions: Rev those engines and let’s see who’s got the 
 loudest roar in town!\r\nSound Competition: Pump up the volume and sh
 ow off your car’s audio system. Who will hit the highest decibels?\r
 \nCostume Contest: Dress to impress! Awards will be given for the bes
 t child, adult, and car costumes. Let your creativity shine in this sp
 ooky showdown! Child and Adult costume contest is crowd-judged.\r\n\r\
 n Community Event: This is a family-friendly event for the entire com
 munity. Bring your friends, family, and neighbors to enjoy the cars, t
 he fun competitions, and all the Halloween festivities.\r\n Admission
 : Want to showcase your ride? Registration details are below, includin
 g our tiered pricing, some stellar parking spots for our Premium Regis
 tration, and our Indoor VIP Showcase.\r\nAs this event is aimed at pro
 viding a safe place for children in the community to trick-or-treat, s
 pectators and passengers do not need a separate ticket for admission.\
 r\nOnly registered show cars are required to purchase a ticket.\r\nVen
 dors Wanted: We’re looking for vendors to join the fun! If you’re 
 interested in being a part of Day of The Dead, contact Deceptive Dream
 z LLC via Facebook, Instagram, or through our website to discuss avail
 ability and pricing. Don’t miss the chance to connect with our vibra
 nt community and showcase your products!\r\n Rain or Shine: This even
 t is happening rain or shine! So, whether it’s sunny or stormy, we
 ll be there ready to roll.\r\nSo mark your calendars, shine up your r
 ide, and join us for a day of cars, competitions, and Halloween thrill
 s that you won’t want to miss!\r\n RSVP now and share with your fri
 ends! Let’s make this night one for the history books. We can’t wa
 it to see you there! The official schedule of events is subject to cha
 nge–be sure to follow us Facebook or hit “going” on the event fo
 r the latest updates as the event draws near!\r\nEvent Times:\r\n9:00 
 AM: Vendors and VIP Registrants roll-in starts\r\n10:00 AM: Pre-regist
 ration and Day-of registrants may begin entering\r\n11:00 AM: Show Beg
 ins\r\n1:00 PM: Low Limbo Competition\r\n2:00 PM: Stereo Competition\r
 \n3:00 PM: Exhaust Competition\r\n4:00 PM: 2-Step Competition\r\n4:30 
 PM: Costume Contest\r\n5:00 PM: Award\r\n5:30 PM: Show ends, dismissal
  begins.\r\n\r\nMore details at: Day of the Dead: Car Show and Trunk 
 or Treat | Deceptive Dreamz (deceptivedreamzcc.com)\r\nfairgrounds@car
 lisleevents.com\n\nFor more information visit https://northeastwheelse
 vents.com/events/day-of-the-dead-car-show-and-truck-or-treat
DTSTART:20241013T130000Z
DTEND:20241013T220000Z
CATEGORIES:carshow, festival
LOCATION:Carlisle PA Fairgrounds
WEBSITE:https://carlislepafairgrounds.com/project/dodcarshow/
URL:https://carlislepafairgrounds.com/project/dodcarshow/
CONTACT:717-243-7855
ORGANIZER:Deceptive Dreamz LLC
ATTACH;FMTTYPE="image/jpeg":https://storage.ning.com/topology/rest/1.0
 /file/get/13003120697?profile=original
ATTENDEE;ROLE=REQ-PARTICIPANT;PARTSTAT=ACCEPTED;RSVP=TRUE;CN="William 
 Bruce":https://northeastwheelsevents.com/profile/WilliamBruce
END:VEVENT
END:VCALENDAR
