BEGIN:VCALENDAR
PRODID:NingEventWidget-v1
VERSION:2.0
METHOD:PUBLISH
BEGIN:VEVENT
UID:5167423:Event:102459
DTSTAMP:20260425T223152Z
SUMMARY:Daytona Demo Day at The Simeone Museum
DESCRIPTION:Our tribute to Daytona features some of the most legendary
  cars in all of motorsports: \n\n1922 Paige 6-66 Daytona Speedster\n1
 953 Hudson Hornet\n1964 Shelby Daytona Coupe\n1970 Plymouth Superbird\
 n1987 Bill Elliott NASCAR Ford Thunderbird\n\nThis is the first time w
 e're running the Elliott car, so be sure to come out!\n\nFor more info
 rmation visit https://northeastwheelsevents.com/events/daytona-demo-da
 y-at-the-simeone-museum
DTSTART:20160213T170000Z
DTEND:20160213T190000Z
CATEGORIES:demo, "day!"
LOCATION:The Simeone Museum
WEBSITE:http://www.simeonemuseum.org/demonstration-demo-days
URL:http://www.simeonemuseum.org/demonstration-demo-days
CONTACT:215-365-7233
ORGANIZER;CN="The Simeone Museum":https://northeastwheelsevents.com/pr
 ofile/TheSimeoneMuseum
ATTACH;FMTTYPE="image/jpeg":http://storage.ning.com/topology/rest/1.0/
 file/get/2097775030?profile=original
ATTENDEE;ROLE=REQ-PARTICIPANT;PARTSTAT=ACCEPTED;RSVP=TRUE;CN="The Sime
 one Museum":https://northeastwheelsevents.com/profile/TheSimeoneMuseum
END:VEVENT
END:VCALENDAR
