BEGIN:VCALENDAR
PRODID:NingEventWidget-v1
VERSION:2.0
METHOD:PUBLISH
BEGIN:VEVENT
UID:5167423:Event:20073
DTSTAMP:20260421T180236Z
SUMMARY:40th Annual DELAWARE STREET RODS CAR SHOW
DESCRIPTION:A big thank you for 40 years with a free T shirt and food 
 voucher to the first 200 cars\nTop 12 and other prizes\n8AM to 4 PM Aw
 ards at 3 PM\nRods and Customs 20 years and older\nGrand Prizes for bo
 th Men and Women!\nWoman’s Chinese Auction\n$10.00 per car\nSpectato
 rs $3.00\n\nFor more information visit https://northeastwheelsevents.c
 om/events/delaware-street-rods-39th-annual-rod-run-picnic-watch-yesr
DTSTART:20130707T120000Z
DTEND:20130707T200000Z
CATEGORIES:car, show
LOCATION:Moose Lodge, New Castle, DE 19720
WEBSITE:http://www.delawarestreetrods.com
URL:http://www.delawarestreetrods.com
CONTACT:302-422-5105
ORGANIZER:Sharon Piccolo
ATTACH;FMTTYPE="image/jpeg":
ATTENDEE;ROLE=REQ-PARTICIPANT;PARTSTAT=ACCEPTED;RSVP=TRUE;CN="Pamela H
 irschhorn":https://northeastwheelsevents.com/profile/PamelaHirschhorn
END:VEVENT
END:VCALENDAR
