BEGIN:VCALENDAR
PRODID:NingEventWidget-v1
VERSION:2.0
METHOD:PUBLISH
BEGIN:VEVENT
UID:5167423:Event:350436
DTSTAMP:20260424T175014Z
SUMMARY:Delaware Valley Oldsmobile Club Spring BPOC Car Show
DESCRIPTION:Calling all Buicks, Oldsmobile, Pontiacs and Cadillacs.  
 19th Spring BOPC Show.  Concord Mall (Old Sears Lot), Indoor bathroom
 s, and food inside the mall.  Best Buick, Best Olds, Best Pontiac, Be
 st Cadillac, Best of Show, Oldest Car, Best modified or custom, Furthe
 st distance.  Please bring canned goods for the Delaware Food Bank \
 n\nFor more information visit https://northeastwheelsevents.com/events
 /delaware-valley-oldsmobile-club-spring-bpoc-car-show
DTSTART:20260516T140000Z
DTEND:20260516T180000Z
CATEGORIES:car, show
LOCATION:4737 Concord Pike, Wilmington, DE 19803
WEBSITE:
URL:
CONTACT:
ORGANIZER;CN="Michael Marchese":https://northeastwheelsevents.com/prof
 ile/MichaelMarchese737
ATTACH;FMTTYPE="image/jpeg":https://storage.ning.com/topology/rest/1.0
 /file/get/31135348883?profile=original
ATTENDEE;ROLE=REQ-PARTICIPANT;PARTSTAT=ACCEPTED;RSVP=TRUE;CN="Michael 
 Marchese":https://northeastwheelsevents.com/profile/MichaelMarchese737
END:VEVENT
END:VCALENDAR
