BEGIN:VCALENDAR
PRODID:NingEventWidget-v1
VERSION:2.0
METHOD:PUBLISH
BEGIN:VEVENT
UID:5167423:Event:348007
DTSTAMP:20260423T175009Z
SUMMARY:Delaware Valley Road Runners Cruise Nights
DESCRIPTION:25 Plaques every cruise night Food, Music\n\nFor more info
 rmation visit https://northeastwheelsevents.com/events/delaware-valley
 -road-runners-cruise-nights
DTSTART:20260421T210000Z
DTEND:20260422T000000Z
CATEGORIES:cruise, in
LOCATION:Falls Township Community Park
WEBSITE:http://www.delawarevalleyroadrunners.com
URL:http://www.delawarevalleyroadrunners.com
CONTACT:2155106629
ORGANIZER;CN="Len Pribish":https://northeastwheelsevents.com/profile/L
 enPribish
ATTACH;FMTTYPE="image/jpeg":
ATTENDEE;ROLE=REQ-PARTICIPANT;PARTSTAT=ACCEPTED;RSVP=TRUE;CN="Len Prib
 ish":https://northeastwheelsevents.com/profile/LenPribish
ATTENDEE;ROLE=REQ-PARTICIPANT;PARTSTAT=TENTATIVE;RSVP=TRUE;CN="William
  Bruce":https://northeastwheelsevents.com/profile/WilliamBruce
END:VEVENT
END:VCALENDAR
