BEGIN:VCALENDAR
PRODID:NingEventWidget-v1
VERSION:2.0
METHOD:PUBLISH
BEGIN:VEVENT
UID:5167423:Event:246109
DTSTAMP:20260422T170436Z
SUMMARY:Demo Day at The Simeone Museum!
DESCRIPTION:Patriotic Pride!\n\nIt’s easy to see that The 24 Hours o
 f Le Mans really means a lot to us. This annual event, held almost eve
 ry year since 1923 is the world’s oldest (and greatest) active sport
 s car endurance race. For the first time ever, we are going to take a 
 deep-dive on the history of our favorite race with a three-part series
 . Part one, “Patriotic Pride” will focus on winners and losers fro
 m the early days.\n\nFeaturing the following Simeone Foundation Automo
 tive Museum collection cars:\n1927 Bentley 3 Litre Speed Model1929 Stu
 tz Supercharged Le Mans1929 duPont Le Mans Speedster1933 Alfa Romeo 8C
  2300 Le Mans\n\n\nDemo Day events typically stay true to the followin
 g schedule:\n10:00 – Doors open11:15 to 11:45 – Scrutineering te
 chnical learning session12:00 to 12:30 – Demo Day discussion, Q and
  A with Dr. Simeone12:30 to 1:00 – Driving demonstration with featu
 red automobiles1:00 to 2:00 – Visitors are able to inspect and phot
 ograph Demo Day cars while engaging with Simeone Museum staff and volu
 nteers.\n\nWe will also be featuring, for one day only, a brand new Fo
 rd GT!\n\n\nFor more information visit https://northeastwheelsevents.c
 om/events/demo-day-at-the-simeone-museum-10
DTSTART:20190525T150000Z
DTEND:20190525T180000Z
CATEGORIES:museu, demo, lecture, driving, le, mans
LOCATION:The Simeone Museum
WEBSITE:https://www.simeonemuseum.org/event/le-mans-part-one-patriotic
 -pride/
URL:https://www.simeonemuseum.org/event/le-mans-part-one-patriotic-pri
 de/
CONTACT:215-365-7233
ORGANIZER;CN="The Simeone Museum":https://northeastwheelsevents.com/pr
 ofile/TheSimeoneMuseum
ATTACH;FMTTYPE="image/jpeg":https://storage.ning.com/topology/rest/1.0
 /file/get/2284077163?profile=original
ATTENDEE;ROLE=REQ-PARTICIPANT;PARTSTAT=ACCEPTED;RSVP=TRUE;CN="The Sime
 one Museum":https://northeastwheelsevents.com/profile/TheSimeoneMuseum
END:VEVENT
END:VCALENDAR
