BEGIN:VCALENDAR
PRODID:NingEventWidget-v1
VERSION:2.0
METHOD:PUBLISH
BEGIN:VEVENT
UID:5167423:Event:297269
DTSTAMP:20260425T171555Z
SUMMARY:Demo Day at The Simeone Museum!
DESCRIPTION:In 1950, Briggs Cunningham became the first American since
  the ’20s to field cars at the 24 Hours of Le Mans. Newspapers of th
 e day called him the leader of \"the brave little band of millionaires
  who carry America’s sports car hopes abroad.\"\n\nJoin us as we tak
 e a closer look at one of our nation's most historically significant \
 "gentleman sportsmen\" and examine his life and impact on the world.\n
 \nFeaturing the following Simeone Foundation Automotive Museum collect
 ion automobiles:\n\n1948 Cadillac Series 61\n1952 Cunningham C-4R Road
 ster\n1956 Jaguar D-Type\n\n\nDemo Day events typically adhere to the 
 following schedule\n10:00 – Doors open\n11:15 to 11:45 – Scrutinee
 ring technical learning session\n12:00 to 12:30 – Demo Day discussio
 n, Q and A with Dr. Simeone\n12:30 to 1:00 – Driving demonstration w
 ith featured automobiles\n1:00 to 2:00 – Visitors are able to inspec
 t and photograph Demo Day cars up close, while engaging with Simeone M
 useum staff and volunteers\n\nFollow this link for tickets:\n\nhttps:/
 /www.eventbrite.com/e/cunningham-equipe-demo-day-tickets-244734125357\
 n\n\n\nFor more information visit https://northeastwheelsevents.com/ev
 ents/demo-day-at-the-simeone-museum-15
DTSTART:20220122T160000Z
DTEND:20220122T190000Z
CATEGORIES:museum, demo, day
LOCATION:The Simeone Museum
WEBSITE:
URL:
CONTACT:215-365-7233
ORGANIZER;CN="The Simeone Museum":https://northeastwheelsevents.com/pr
 ofile/TheSimeoneMuseum
ATTACH;FMTTYPE="image/jpeg":https://storage.ning.com/topology/rest/1.0
 /file/get/10009897697?profile=original
ATTENDEE;ROLE=REQ-PARTICIPANT;PARTSTAT=ACCEPTED;RSVP=TRUE;CN="The Sime
 one Museum":https://northeastwheelsevents.com/profile/TheSimeoneMuseum
END:VEVENT
END:VCALENDAR
