BEGIN:VCALENDAR
PRODID:NingEventWidget-v1
VERSION:2.0
METHOD:PUBLISH
BEGIN:VEVENT
UID:5167423:Event:151177
DTSTAMP:20260420T165449Z
SUMMARY:Demo Day at The Simeone Museum!
DESCRIPTION:We begin each Demonstration Day with a brief lecture on ea
 ch car’s importance and its place in history. Immediately after the 
 lecture, each car is demonstrated outdoors in the parking lot in a con
 trolled manner, weather permitting. After the demonstration runs are c
 omplete, we lower the ropes and allow guests to see each car up close 
 and take pictures. Please check our website for any last-minute change
 s, before coming to see the event. \n\nFeatured cars are: Ferrari 37
 5 MM, Jaguar D-Type, Cunningham C4-R.\n\nFor more information visit ht
 tps://northeastwheelsevents.com/events/demo-day-at-the-simeone-museum-
 6
DTSTART:20170610T160000Z
DTEND:20170610T173000Z
CATEGORIES:demo, "day!"
LOCATION:The Simeone Museum
WEBSITE:http://www.simeonemuseum.org/demonstration-demo-days
URL:http://www.simeonemuseum.org/demonstration-demo-days
CONTACT:215-365-7233
ORGANIZER;CN="The Simeone Museum":https://northeastwheelsevents.com/pr
 ofile/TheSimeoneMuseum
ATTACH;FMTTYPE="image/jpeg":http://storage.ning.com/topology/rest/1.0/
 file/get/1419154559?profile=original
ATTENDEE;ROLE=REQ-PARTICIPANT;PARTSTAT=ACCEPTED;RSVP=TRUE;CN="The Sime
 one Museum":https://northeastwheelsevents.com/profile/TheSimeoneMuseum
END:VEVENT
END:VCALENDAR
