BEGIN:VCALENDAR
PRODID:NingEventWidget-v1
VERSION:2.0
METHOD:PUBLISH
BEGIN:VEVENT
UID:5167423:Event:164103
DTSTAMP:20260425T185410Z
SUMMARY:Demo Day at The Simeone Museum!
DESCRIPTION:We begin each Demonstration Day with a brief lecture on ea
 ch car’s importance and its place in history. Immediately after the 
 lecture, each car is demonstrated outdoors in the parking lot in a con
 trolled setting, weather permitting. After the demonstration runs are 
 complete, we lower the ropes and allow guests to see each car up close
  and take pictures. Please check our website for any last-minute chang
 es, before coming to see the event. \n\nThis demo is called David vs.
  Goliath - smaller cars beating the big guys!\n\nFeatured cars include
  MG K3, BMW 328, Alfa Romeo 1750 Supercharged\n \n\nFor more informat
 ion visit https://northeastwheelsevents.com/events/demo-day-at-the-sim
 eone-museum-7
DTSTART:20170923T160000Z
DTEND:20170923T170000Z
CATEGORIES:demo, day
LOCATION:The Simeone Museum
WEBSITE:http://www.simeonemuseum.org/demonstration-demo-days
URL:http://www.simeonemuseum.org/demonstration-demo-days
CONTACT:215-365-7233
ORGANIZER;CN="The Simeone Museum":https://northeastwheelsevents.com/pr
 ofile/TheSimeoneMuseum
ATTACH;FMTTYPE="image/jpeg":http://storage.ning.com/topology/rest/1.0/
 file/get/2284075899?profile=original
ATTENDEE;ROLE=REQ-PARTICIPANT;PARTSTAT=ACCEPTED;RSVP=TRUE;CN="The Sime
 one Museum":https://northeastwheelsevents.com/profile/TheSimeoneMuseum
END:VEVENT
END:VCALENDAR
