BEGIN:VCALENDAR
PRODID:NingEventWidget-v1
VERSION:2.0
METHOD:PUBLISH
BEGIN:VEVENT
UID:5167423:Event:243990
DTSTAMP:20260422T163312Z
SUMMARY:Demo Day at The SImeone Museum!
DESCRIPTION:At the Simeone Foundation Automotive Museum, you can see, 
 hear and smell history come to life through these magnificent machines
 .\n\nThis event features the following Simeone Foundation Automotive M
 useum collection automobiles:\n\n1956 Mercedes-Benz 300 SL\n1952 Jagua
 r C-Type\n1954 Ferrari 375MM Pinin Farina Spider\n\nFor more informati
 on visit https://northeastwheelsevents.com/events/demo-day-at-the-sime
 one-museum-8
DTSTART:20190511T150000Z
DTEND:20190511T181500Z
CATEGORIES:demo, day, lecture
LOCATION:The Simeone Museum
WEBSITE:https://www.simeonemuseum.org/event/the-sports-car-comes-to-am
 erica-max-hoffman-kjell-qvale-luigi-chinetti/
URL:https://www.simeonemuseum.org/event/the-sports-car-comes-to-americ
 a-max-hoffman-kjell-qvale-luigi-chinetti/
CONTACT:215-365-7233
ORGANIZER:
ATTACH;FMTTYPE="image/jpeg":https://storage.ning.com/topology/rest/1.0
 /file/get/2335284024?profile=original
ATTENDEE;ROLE=REQ-PARTICIPANT;PARTSTAT=ACCEPTED;RSVP=TRUE;CN="The Sime
 one Museum":https://northeastwheelsevents.com/profile/TheSimeoneMuseum
END:VEVENT
END:VCALENDAR
