BEGIN:VCALENDAR
PRODID:NingEventWidget-v1
VERSION:2.0
METHOD:PUBLISH
BEGIN:VEVENT
UID:5167423:Event:137886
DTSTAMP:20260423T051236Z
SUMMARY:Demonstration Day
DESCRIPTION:One of the vehicles from the museum's collection is fired 
 up and demonstrated and interpreted. Rides are given, weather permitti
 ng. Invited guests share their automotive history. Demonstration Days 
 are held on the third Thursday of each month.\n\nFor more information 
 visit https://northeastwheelsevents.com/events/demonstration-day-6
DTSTART:20170708T130000Z
DTEND:20170708T160000Z
CATEGORIES:feature, car
LOCATION:Seal Cove Auto Museum
WEBSITE:http://www.sealcoveautomuseum.org
URL:http://www.sealcoveautomuseum.org
CONTACT:2072449242
ORGANIZER:Bill Barter
ATTACH;FMTTYPE="image/jpeg":http://storage.ning.com/topology/rest/1.0/
 file/get/2284090822?profile=original
ATTENDEE;ROLE=REQ-PARTICIPANT;PARTSTAT=ACCEPTED;RSVP=TRUE;CN="Roberto 
 M Rodriguez":https://northeastwheelsevents.com/profile/RobertoMRodrigu
 ez
END:VEVENT
END:VCALENDAR
