BEGIN:VCALENDAR
PRODID:NingEventWidget-v1
VERSION:2.0
METHOD:PUBLISH
BEGIN:VEVENT
UID:5167423:Event:111962
DTSTAMP:20260425T090710Z
SUMMARY:Spring Fling 2016
DESCRIPTION:Cornerstone Auto Outreach Team of Cornerstone Bible Church
  is happy to present Spring Fling 2016.  The show will go on rain or 
 shine  Three trophies will be awarded in each of our ten classes as w
 ell as a Car/Truck Best of Show, Motorcycle Best of Show, and Pastor's
  Choice.  People's choice balloting will take place from 11:00 till 2
 :00 and will be restricted to those who register a show vehicle.  Res
 ults will be announced at 2:30.  There will be vendors and fun for al
 l ages,  so bring the entire family for a day of lots of fun, and, ye
 s, the Cornerstone Cafe will be open.  Bricker's French Fries will be
  here as well.\n\nRegistration will be $5.00 per vehicle.  Dash plaqu
 es will be given to the first 50 vehicles to register.\n\nFor more inf
 ormation, contact Dennis Benton, Jr. at 717-318-7608.  We also invite
  you to visit our web site at cbcdover.com.\n\nWhile the results are b
 eing tallied, there will be a concert performed by the Sonlyters from 
 1:30 till 2:30.  The Sonlyters will be happy to perform after the sho
 w beginning at 3:30.\n\nWe hope you come out and have fun with us.\n\n
 For more information visit https://northeastwheelsevents.com/events/de
 nnis-benton-jr
DTSTART:20160611T150000Z
DTEND:20160611T190000Z
CATEGORIES:car, show
LOCATION:Cornerstone Bible Church
WEBSITE:
URL:
CONTACT:717-318-7608
ORGANIZER;CN="Dennis Benton Jr":https://northeastwheelsevents.com/prof
 ile/DennisBentonJr
ATTACH;FMTTYPE="image/jpeg":http://storage.ning.com/topology/rest/1.0/
 file/get/2284088349?profile=original
ATTENDEE;ROLE=REQ-PARTICIPANT;PARTSTAT=ACCEPTED;RSVP=TRUE;CN="Dennis B
 enton Jr":https://northeastwheelsevents.com/profile/DennisBentonJr
END:VEVENT
END:VCALENDAR
