BEGIN:VCALENDAR
PRODID:NingEventWidget-v1
VERSION:2.0
METHOD:PUBLISH
BEGIN:VEVENT
UID:5167423:Event:144629
DTSTAMP:20260424T003727Z
SUMMARY:Demo Day at The Simeone Museum!
DESCRIPTION:The Simeone Foundation Automotive Museum is home to our wo
 rld-famous Demo Days, which Using the expansive 3-acre parking lot beh
 ind the museum, you can see, hear and smell history come to life throu
 gh these magnificent machines. \n\nWe begin each Demonstration Day wi
 th a brief lecture on each car’s importance and its place in history
 . Immediately after the lecture, each car is demonstrated outdoors in 
 the parking lot in a controlled manner, weather permitting. After the 
 demonstration runs are complete, we lower the ropes and allow guests t
 o see each car up close and take pictures. \n\nFeatured Cars: Stutz 
 Black Hawk, “Blower” Bentley Supercharged, Cunningham C4-R, Bizzar
 ini V12.\n\n\nPhoto by Bill Caron\n\nFor more information visit https:
 //northeastwheelsevents.com/events/deom-day-at-the-simeone-museum
DTSTART:20170408T160000Z
DTEND:20170408T173000Z
CATEGORIES:demonstration, day
LOCATION:The Simeone Museum
WEBSITE:http://www.simeonemuseum.org/demonstration-demo-days
URL:http://www.simeonemuseum.org/demonstration-demo-days
CONTACT:215-365-7233
ORGANIZER;CN="The Simeone Museum":https://northeastwheelsevents.com/pr
 ofile/TheSimeoneMuseum
ATTACH;FMTTYPE="image/jpeg":http://storage.ning.com/topology/rest/1.0/
 file/get/1419154559?profile=original
ATTENDEE;ROLE=REQ-PARTICIPANT;PARTSTAT=ACCEPTED;RSVP=TRUE;CN="The Sime
 one Museum":https://northeastwheelsevents.com/profile/TheSimeoneMuseum
END:VEVENT
END:VCALENDAR
