BEGIN:VCALENDAR
PRODID:NingEventWidget-v1
VERSION:2.0
METHOD:PUBLISH
BEGIN:VEVENT
UID:5167423:Event:188218
DTSTAMP:20260426T004346Z
SUMMARY:Deutsche Classic
DESCRIPTION:The Deutsche Classic is an all-German automotive & motorcy
 cle event, welcoming vintage, classic and late model German vehicles â
 €“ cars, motorcycles and more! Plan on joining us for our 14th anniver
 sary on Saturday, July 14th, 2018 at the beautiful Oley Fairgrounds, P
 ennsylvania. 26 Jefferson Street, Oley, PA 19547Â The dayâ€™s events i
 nclude a swap meet, car & motorcycle show with unique hand crafted sho
 w awards, music, food, and activities for the whole family. We look fo
 rward to seeing everyone!Â Rain or ShineÂ Gates open 8am to 4pm (7:30a
 m for vendors)Â Pre-registration not requiredÂ General Admission $17Â 
 (5) $1 food coupons included with admissionÂ Food prepared by Oley Fir
 e CompanyÂ Swap Meet: NOS, new and used partsÂ Judged Car ShowÂ New Ca
 r DisplaysÂ DJ all dayÂ Free ParkingÂ Saturday's ScheduleÂ 8:00am-4:00
 pm Food Pavilions Breakfast, Lunch & SnacksÂ 8:00am-4:00pm Main Pavili
 on Information & Official Show MerchandiseÂ 10:30am Main Pavilion Dead
 line for Hagerty Insurance Youth Judging registration**Â 10:45am Near 
 Main Stage Kid's Car Hunt (Diecast): Ages 3-7 Behind StageÂ 11:15am-12
 :15pm Near Main Stage Tire Toss Competition*Â 11:30am Car Show Field D
 eadline for arrival of cars to be judgedÂ 11:30am Official Merchandise
  Tent Deadline for Ladies in Jeans registrationÂ 2:00pm Main Stage Lad
 ies in Jeans contest* finals, $300 top cash prizes!Â 3:00pm Main Stage
  Car Show Awards PresentationÂ https://www.deutscheclassic.com/Â Conta
 ct Jeff with any questions at:Â bug.world@yahoo.com\n\nFor more inform
 ation visit https://northeastwheelsevents.com/events/deutsche-classic-
 2
DTSTART:20180714T120000Z
DTEND:20180714T200000Z
CATEGORIES:"car/motor", cycle, "show/swap"
LOCATION:Oly Fairgrounds
WEBSITE:
URL:
CONTACT:https://www.deutscheclassic.com/
ORGANIZER;CN="Jeff Schmuck":https://northeastwheelsevents.com/profile/
 JeffSchmuck
ATTACH;FMTTYPE="image/jpeg":http://storage.ning.com/topology/rest/1.0/
 file/get/2284106059?profile=original
ATTENDEE;ROLE=REQ-PARTICIPANT;PARTSTAT=ACCEPTED;RSVP=TRUE;CN="Jeff Sch
 muck":https://northeastwheelsevents.com/profile/JeffSchmuck
END:VEVENT
END:VCALENDAR
