BEGIN:VCALENDAR
PRODID:NingEventWidget-v1
VERSION:2.0
METHOD:PUBLISH
BEGIN:VEVENT
UID:5167423:Event:347765
DTSTAMP:20260421T125136Z
SUMMARY:Deutsche Classic
DESCRIPTION:Rain or ShineGates open 8am to 4pm (6:30am for vendors)Pre
 -registration not available\nShow Cars $25, includes driver, includes 
 $5 food tickets\nGeneral Admission $20, includes $5 food tickets\nVend
 or Spaces 15’ X 20’, $25, includes driver, $5 food tickets(5) $1 f
 ood coupons included with ea. paid admissionFood prepared by Oley Fire
  CompanySwap Meet: NOS, new and used partsJudged Car ShowNew Car Displ
 aysDJ all dayFree Parking\nOn site camping available Friday night\nPet
  friendly to friendly pets\n\n\n\n\n\nSaturday's Schedule\n8:00am-2:30
 pm Food Pavilions Breakfast, Lunch & Snacks8:00am-2:30pm Main Pavilion
  Information & Official Show Merchandise10:30am Main Pavilion Deadline
  for Hagerty Insurance Youth Judging registration*10:45am Near Main St
 age Kid's Car Hunt (Diecast): Ages 3-7 11:00am Show Car Judging Begins
 11:15am-12:15pm Tire Toss** Competition Qualifying - Near Stage11:30am
  Car Show Field Deadline for arrival of cars/motorcycles to be judged1
 :00pm Tire Toss Competition Finals - Near Stage, cash prizes totaling 
 $300!3:00pm (Or Sooner) Main Stage Car Show Awards Presentation (Winne
 rs MUST be present to win trophy)\n* Hagerty Youth Judging for 8-14 ye
 ars old** Last year's Deutsche Classic 1st place winner is ineligible 
 to compete.\n\n\n\n\nFor more information visit https://northeastwheel
 sevents.com/events/deutsche-classic-9
DTSTART:20260711T120000Z
DTEND:20260711T200000Z
CATEGORIES:german, "car/motorcycle", "show/swap"
LOCATION:Oley Fairgrounds
WEBSITE:https://www.deutscheclassic.com/
URL:https://www.deutscheclassic.com/
CONTACT:7175781463
ORGANIZER;CN="Jeff Schmuck":https://northeastwheelsevents.com/profile/
 JeffSchmuck
ATTACH;FMTTYPE="image/jpeg":https://storage.ning.com/topology/rest/1.0
 /file/get/31062189470?profile=original
ATTENDEE;ROLE=REQ-PARTICIPANT;PARTSTAT=ACCEPTED;RSVP=TRUE;CN="Jeff Sch
 muck":https://northeastwheelsevents.com/profile/JeffSchmuck
END:VEVENT
END:VCALENDAR
