BEGIN:VCALENDAR
PRODID:NingEventWidget-v1
VERSION:2.0
METHOD:PUBLISH
BEGIN:VEVENT
UID:5167423:Event:133437
DTSTAMP:20260424T175213Z
SUMMARY:Diner Day
DESCRIPTION:Come join us at the Boyertown Museum of Historic Vehicles 
 for our popular Diner Day event!  With regular museum admission, you 
 can enjoy pie & coffee in the famous 1938 Fegely's Reading Diner at 19
 38 prices--that means a quarter for a slice of pie and a nickel for a 
 cup of coffee!  DJ Chuck Loggia will entertain with music from the ti
 me period!  Blacksmithing demonstration will also be offered in the 1
 872 Carriage Factory.\n\nFor more information visit https://northeastw
 heelsevents.com/events/diner-day
DTSTART:20161105T140000Z
DTEND:20161105T170000Z
CATEGORIES:fundraiser
LOCATION:Boyertown Museum of Historic Vehicles
WEBSITE:http://www.boyertownmuseum.org
URL:http://www.boyertownmuseum.org
CONTACT:610-367-2090
ORGANIZER;CN="Boyertown Museum of Historic Veh":https://northeastwheel
 sevents.com/profile/BoyertownMuseumofHistoricVeh
ATTACH;FMTTYPE="image/jpeg":
ATTENDEE;ROLE=REQ-PARTICIPANT;PARTSTAT=ACCEPTED;RSVP=TRUE;CN="Boyertow
 n Museum of Historic Veh":https://northeastwheelsevents.com/profile/Bo
 yertownMuseumofHistoricVeh
END:VEVENT
END:VCALENDAR
