BEGIN:VCALENDAR
PRODID:NingEventWidget-v1
VERSION:2.0
METHOD:PUBLISH
BEGIN:VEVENT
UID:5167423:Event:265157
DTSTAMP:20260425T233752Z
SUMMARY:Dirt Therapy 2.0
DESCRIPTION:This is our 2nd event of the season for Susquehanna Region
  SCCA RallyCross.  I hope you are excited as we are that we get to pl
 ay in the dirt again. I know the last event is probably still lurking 
 in every possible nook and cranny of your vehicles. We are going to be
  back at the Farm Show venue for this event and let's all pray that th
 e rain gods keep it a little less dry this time. Please make sure that
  you read the COVID-19 rules on MSR or under the files tab of the Face
 book RallyCross page. Also please be aware that there will be NO spect
 ators allowed as well as no loaner helmets available. Please make sure
  that you purchase a helmet before the event. It has to be either a Sn
 ell, ECE, British standard, or FIA rated. Feel free to message us if y
 ou have any further questions. I am looking forward to seeing you ther
 e.\n\nFor more information visit https://northeastwheelsevents.com/eve
 nts/dirt-therapy-2-0
DTSTART:20200926T120000Z
DTEND:20200926T210000Z
CATEGORIES:rallycross
LOCATION:Harrisburg Farm Show Upper Parking Lot
WEBSITE:https://www.motorsportreg.com/events/susq-2020-rallycross-dirt
 -therapy-2-farm-show-harrisburg-elmerton-lot-015889
URL:https://www.motorsportreg.com/events/susq-2020-rallycross-dirt-the
 rapy-2-farm-show-harrisburg-elmerton-lot-015889
CONTACT:
ORGANIZER;CN="Nicholas Landis":https://northeastwheelsevents.com/profi
 le/NicholasLandis
ATTACH;FMTTYPE="image/jpeg":https://storage.ning.com/topology/rest/1.0
 /file/get/7878411465?profile=original
ATTENDEE;ROLE=REQ-PARTICIPANT;PARTSTAT=ACCEPTED;RSVP=TRUE;CN="Nicholas
  Landis":https://northeastwheelsevents.com/profile/NicholasLandis
END:VEVENT
END:VCALENDAR
