BEGIN:VCALENDAR
PRODID:NingEventWidget-v1
VERSION:2.0
METHOD:PUBLISH
BEGIN:VEVENT
UID:5167423:Event:172628
DTSTAMP:20260425T210323Z
SUMMARY:Doublin Gap Motocross Practice and Race - MDRA/MAMA
DESCRIPTION:Doublin Gap Motocross \nJuly 13-15– Doublin Gap MX Par
 k Motocross Practice - Friday 11:00 to 5:00 Motocross Race - Saturday
  and Sunday 8:00 to 6:00 - MDRA/MAMA Shootout -  Open to all Riders (
 bikes only)  Contingencies on Sunday $10 Rocky Mountain Gift Cards bo
 th days Organized by Jeff Yentzer| Type: , , , \n\nFor more info
 rmation visit https://northeastwheelsevents.com/events/doublin-gap-mot
 ocross-practice-and-race-mdra-mama
DTSTART:20180713T040000Z
DTEND:20180716T035900Z
CATEGORIES:doublin, gap, motocross, practice, and, race
LOCATION:Interstate 81 to Route 696 North
WEBSITE:
URL:
CONTACT:717-249-6036
ORGANIZER:Jeff Yentzer
ATTACH;FMTTYPE="image/jpeg":
ATTENDEE;ROLE=REQ-PARTICIPANT;PARTSTAT=ACCEPTED;RSVP=TRUE;CN="Carol Ye
 ntzer":https://northeastwheelsevents.com/profile/CarolYentzer
END:VEVENT
END:VCALENDAR
