BEGIN:VCALENDAR
PRODID:NingEventWidget-v1
VERSION:2.0
METHOD:PUBLISH
BEGIN:VEVENT
UID:5167423:Event:172734
DTSTAMP:20260424T001816Z
SUMMARY:Doublin Gap Motocross Practice
DESCRIPTION:Doublin Gap Motoross Practice 11:30 to 5:00 - Open to all 
 riders - $30.00 to ride for the day - No other fees\nBikes Only\n\nFor
  more information visit https://northeastwheelsevents.com/events/doubl
 in-gap-motocross-practice
DTSTART:20180310T050000Z
DTEND:20180311T045900Z
CATEGORIES:motocross, practice
LOCATION:Interstate 81 to Route 696 North
WEBSITE:
URL:
CONTACT:7172496036
ORGANIZER;CN="Carol Yentzer":https://northeastwheelsevents.com/profile
 /CarolYentzer
ATTACH;FMTTYPE="image/jpeg":
ATTENDEE;ROLE=REQ-PARTICIPANT;PARTSTAT=ACCEPTED;RSVP=TRUE;CN="Carol Ye
 ntzer":https://northeastwheelsevents.com/profile/CarolYentzer
END:VEVENT
END:VCALENDAR
