BEGIN:VCALENDAR
PRODID:NingEventWidget-v1
VERSION:2.0
METHOD:PUBLISH
BEGIN:VEVENT
UID:5167423:Event:138206
DTSTAMP:20260424T141211Z
SUMMARY:Down Shifters Motor Club Fall Swap Meet
DESCRIPTION:Outside and inside spots. Valve cover races. CALL FOR INFO
   \n\nFor more information visit https://northeastwheelsevents.com/ev
 ents/down-shifters-motor-club-fall-swap-meet
DTSTART:20161126T130000Z
DTEND:20161126T200000Z
CATEGORIES:swap, meet
LOCATION:Hilltop AA Trevoce PA
WEBSITE:
URL:
CONTACT:Charlie 2105 741-0224. cell 267 688-7257
ORGANIZER:Down Shifters Motor Club
ATTACH;FMTTYPE="image/jpeg":
ATTENDEE;ROLE=REQ-PARTICIPANT;PARTSTAT=ACCEPTED;RSVP=TRUE;CN="Pamela H
 irschhorn":https://northeastwheelsevents.com/profile/PamelaHirschhorn
END:VEVENT
END:VCALENDAR
