BEGIN:VCALENDAR
PRODID:NingEventWidget-v1
VERSION:2.0
METHOD:PUBLISH
BEGIN:VEVENT
UID:5167423:Event:326032
DTSTAMP:20260421T080340Z
SUMMARY:Drag Racers Reunion
DESCRIPTION:Nostalgia drag races and car show at South Mountain Racewa
 y. Gassers, Dragsters, Altered, Vintage Eliminator flatheads, and Funn
 y Cars take to the track for a day of fun and memories. Dragstrip Thun
 der nitro engine start ups. Car show on the hill. Legends of the drags
 trip. \n\nFor more information visit https://northeastwheelsevents.co
 m/events/drag-racers-reunion-2
DTSTART:20240714T120000Z
DTEND:20240714T210000Z
CATEGORIES:nostalgia, drag, races
LOCATION:South Mountain Raceway
WEBSITE:
URL:
CONTACT:
ORGANIZER;CN="E.J. Kowalski":https://northeastwheelsevents.com/profile
 /EJKowalski
ATTACH;FMTTYPE="image/jpeg":https://storage.ning.com/topology/rest/1.0
 /file/get/12420082082?profile=original
ATTENDEE;ROLE=REQ-PARTICIPANT;PARTSTAT=ACCEPTED;RSVP=TRUE;CN="E.J. Kow
 alski":https://northeastwheelsevents.com/profile/EJKowalski
END:VEVENT
END:VCALENDAR
