BEGIN:VCALENDAR
PRODID:NingEventWidget-v1
VERSION:2.0
METHOD:PUBLISH
BEGIN:VEVENT
UID:5167423:Event:303237
DTSTAMP:20260419T101124Z
SUMMARY:Drag Racers Reunion Weekend
DESCRIPTION:Drag Racers Reunion weekend July 9-10th.  Nostalgia drag 
 races at South Mountain Raceway. Old time drag racing with MANDRA, Vin
 tage Eliminator class, funny cars, altereds, gassers, super stockers. 
 Gates open at 8, time trials at 11.  \n\nFor more information visit h
 ttps://northeastwheelsevents.com/events/drag-racers-reunion-weekend-1
DTSTART:20220710T120000Z
DTEND:20220710T210000Z
CATEGORIES:car, show, nostalgia, drag, race
LOCATION:Eastern Museum of Motor Racing / South Mountain Raceway
WEBSITE:https://emmr.org
URL:https://emmr.org
CONTACT:610-301-6565
ORGANIZER:E.J. Kowalski
ATTACH;FMTTYPE="image/jpeg":https://storage.ning.com/topology/rest/1.0
 /file/get/10262148496?profile=original
ATTENDEE;ROLE=REQ-PARTICIPANT;PARTSTAT=ACCEPTED;RSVP=TRUE;CN="Pamela H
 irschhorn":https://northeastwheelsevents.com/profile/PamelaHirschhorn
END:VEVENT
END:VCALENDAR
