BEGIN:VCALENDAR
PRODID:NingEventWidget-v1
VERSION:2.0
METHOD:PUBLISH
BEGIN:VEVENT
UID:5167423:Event:299647
DTSTAMP:20260421T045257Z
SUMMARY:Drag Racers Reunion Weekend
DESCRIPTION:Drag Racers Reunion weekend July 9-10th. July 9th 10am til
 l 4pm at the Eastern Museum of Motor Racing, cruise in car show, nosta
 lgia drag race displays, dragstrip thunder nitro engine start ups, leg
 ends of the quarter mile, Lyndwood chassis reunion, door prizes, and m
 ore! Then sunday July 10th nostalgia drag races at South Mountain Race
 way. Old time drag racing with MANDRA, Vintage Eliminator class, funny
  cars, altereds, gassers, super stockers. Gates open at 8, time trials
  at 11.  \n\nFor more information visit https://northeastwheelsevents
 .com/events/drag-racers-reunion-weekend
DTSTART:20220709T140000Z
DTEND:20220710T210000Z
CATEGORIES:car, show, nostalgia, drag, race
LOCATION:Eastern Museum of Motor Racing / South Mountain Raceway
WEBSITE:https://emmr.org
URL:https://emmr.org
CONTACT:610-301-6565
ORGANIZER;CN="E.J. Kowalski":https://northeastwheelsevents.com/profile
 /EJKowalski
ATTACH;FMTTYPE="image/jpeg":https://storage.ning.com/topology/rest/1.0
 /file/get/10262148496?profile=original
ATTENDEE;ROLE=REQ-PARTICIPANT;PARTSTAT=ACCEPTED;RSVP=TRUE;CN="E.J. Kow
 alski":https://northeastwheelsevents.com/profile/EJKowalski
END:VEVENT
END:VCALENDAR
